BEGIN:VCALENDAR
VERSION:2.0
PRODID:-//Miracle Signs and Wonders Ministry - ECPv6.15.20//NONSGML v1.0//EN
CALSCALE:GREGORIAN
METHOD:PUBLISH
X-ORIGINAL-URL:https://mswministry.org
X-WR-CALDESC:Events for Miracle Signs and Wonders Ministry
REFRESH-INTERVAL;VALUE=DURATION:PT1H
X-Robots-Tag:noindex
X-PUBLISHED-TTL:PT1H
BEGIN:VTIMEZONE
TZID:America/New_York
BEGIN:DAYLIGHT
TZOFFSETFROM:-0500
TZOFFSETTO:-0400
TZNAME:EDT
DTSTART:20200308T070000
END:DAYLIGHT
BEGIN:STANDARD
TZOFFSETFROM:-0400
TZOFFSETTO:-0500
TZNAME:EST
DTSTART:20201101T060000
END:STANDARD
BEGIN:DAYLIGHT
TZOFFSETFROM:-0500
TZOFFSETTO:-0400
TZNAME:EDT
DTSTART:20210314T070000
END:DAYLIGHT
BEGIN:STANDARD
TZOFFSETFROM:-0400
TZOFFSETTO:-0500
TZNAME:EST
DTSTART:20211107T060000
END:STANDARD
BEGIN:DAYLIGHT
TZOFFSETFROM:-0500
TZOFFSETTO:-0400
TZNAME:EDT
DTSTART:20220313T070000
END:DAYLIGHT
BEGIN:STANDARD
TZOFFSETFROM:-0400
TZOFFSETTO:-0500
TZNAME:EST
DTSTART:20221106T060000
END:STANDARD
BEGIN:DAYLIGHT
TZOFFSETFROM:-0500
TZOFFSETTO:-0400
TZNAME:EDT
DTSTART:20230312T070000
END:DAYLIGHT
BEGIN:STANDARD
TZOFFSETFROM:-0400
TZOFFSETTO:-0500
TZNAME:EST
DTSTART:20231105T060000
END:STANDARD
BEGIN:DAYLIGHT
TZOFFSETFROM:-0500
TZOFFSETTO:-0400
TZNAME:EDT
DTSTART:20240310T070000
END:DAYLIGHT
BEGIN:STANDARD
TZOFFSETFROM:-0400
TZOFFSETTO:-0500
TZNAME:EST
DTSTART:20241103T060000
END:STANDARD
BEGIN:DAYLIGHT
TZOFFSETFROM:-0500
TZOFFSETTO:-0400
TZNAME:EDT
DTSTART:20250309T070000
END:DAYLIGHT
BEGIN:STANDARD
TZOFFSETFROM:-0400
TZOFFSETTO:-0500
TZNAME:EST
DTSTART:20251102T060000
END:STANDARD
END:VTIMEZONE
BEGIN:VEVENT
DTSTART;TZID=America/New_York:20240302T113000
DTEND;TZID=America/New_York:20240302T133000
DTSTAMP:20260423T133914
CREATED:20240221T215659Z
LAST-MODIFIED:20240221T215659Z
UID:1261-1709379000-1709386200@mswministry.org
SUMMARY:Baptism
DESCRIPTION:Please arrive at 11:30 a.m. for preparation.\nPreparation allows the baptism candidates time to be dressed in their baptism garments prior to entering the water. \nThe baptism will begin at 12:00 p.m.\nFor more information\, please call 813-803-0517
URL:https://mswministry.org/events/baptism-5/
LOCATION:Cypress Point Park\, 5620 W. Cypress Street\, Tampa\, FL\, 33607\, United States
END:VEVENT
BEGIN:VEVENT
DTSTART;TZID=America/New_York:20231104T190000
DTEND;TZID=America/New_York:20231104T220000
DTSTAMP:20260423T133914
CREATED:20231025T155450Z
LAST-MODIFIED:20231025T155450Z
UID:1253-1699124400-1699135200@mswministry.org
SUMMARY:Miracles of God Encounter
DESCRIPTION:Miracle Signs and Wonders Ministry Presents: \nMiracles of God Encounter \nHealing. Deliverance. Prophecy. \n  \nServant Mack\, Pastor/Overseer \nMinister Robert Byrd \nMiracle Signs and Wonders Ministry \n  \nPastor Amos Handsome \nGod’s Holy Tabernacle for All People
URL:https://mswministry.org/events/miracles-of-god-encounter-2/
LOCATION:City of Swainsboro Auditorium\, 532 W Church Street\, Swainsboro\, GA\, 30401\, United States
END:VEVENT
BEGIN:VEVENT
DTSTART;TZID=America/New_York:20231103T190000
DTEND;TZID=America/New_York:20231103T220000
DTSTAMP:20260423T133914
CREATED:20231025T154743Z
LAST-MODIFIED:20231025T154743Z
UID:1243-1699038000-1699048800@mswministry.org
SUMMARY:Miracles of God Encounter
DESCRIPTION:Miracle Signs and Wonders Ministry Presents: \nMiracles of God Encounter \nHealing. Deliverance. Prophecy. \n  \nServant Mack\, Pastor/Overseer \nMinister Robert Byrd \nMiracle Signs and Wonders Ministry \n  \nPastor Amos Handsome \nGod’s Holy Tabernacle for All People \n 
URL:https://mswministry.org/events/miracles-of-god-encounter/
LOCATION:City of Swainsboro Auditorium\, 532 W Church Street\, Swainsboro\, GA\, 30401\, United States
END:VEVENT
BEGIN:VEVENT
DTSTART;TZID=America/New_York:20230528T110000
DTEND;TZID=America/New_York:20230528T140000
DTSTAMP:20260423T133914
CREATED:20230426T035237Z
LAST-MODIFIED:20230426T035237Z
UID:1216-1685271600-1685282400@mswministry.org
SUMMARY:Holy Ghost Fire Encounter
DESCRIPTION:
URL:https://mswministry.org/events/holy-ghost-fire-encounter-3/
LOCATION:God’s Holy Tabernacle for All People\, 398 Parrish Pond Dr.\, Twin City\, GA\, 30471\, United States
END:VEVENT
BEGIN:VEVENT
DTSTART;TZID=America/New_York:20230527T193000
DTEND;TZID=America/New_York:20230527T223000
DTSTAMP:20260423T133914
CREATED:20230426T034944Z
LAST-MODIFIED:20230426T034944Z
UID:1214-1685215800-1685226600@mswministry.org
SUMMARY:Holy Ghost Fire Encounter
DESCRIPTION:
URL:https://mswministry.org/events/holy-ghost-fire-encounter-2/
LOCATION:God’s Holy Tabernacle for All People\, 398 Parrish Pond Dr.\, Twin City\, GA\, 30471\, United States
END:VEVENT
BEGIN:VEVENT
DTSTART;TZID=America/New_York:20230526T193000
DTEND;TZID=America/New_York:20230526T223000
DTSTAMP:20260423T133914
CREATED:20230426T034612Z
LAST-MODIFIED:20230426T035032Z
UID:1211-1685129400-1685140200@mswministry.org
SUMMARY:Holy Ghost Fire Encounter
DESCRIPTION:
URL:https://mswministry.org/events/holy-ghost-fire-encounter/
LOCATION:God’s Holy Tabernacle for All People\, 398 Parrish Pond Dr.\, Twin City\, GA\, 30471\, United States
END:VEVENT
BEGIN:VEVENT
DTSTART;TZID=America/New_York:20230502T190000
DTEND;TZID=America/New_York:20230502T223000
DTSTAMP:20260423T133914
CREATED:20230426T013341Z
LAST-MODIFIED:20230426T013341Z
UID:1161-1683054000-1683066600@mswministry.org
SUMMARY:Servant Mack Birthday Celebration Service
DESCRIPTION:Guest Speaker: Minister Robert Byrd
URL:https://mswministry.org/events/servant-mack-birthday-celebration-service-4/
LOCATION:Conference Line (Miracle Signs and Wonders Ministry)
END:VEVENT
BEGIN:VEVENT
DTSTART;VALUE=DATE:20230501
DTEND;VALUE=DATE:20230502
DTSTAMP:20260423T133914
CREATED:20230426T034221Z
LAST-MODIFIED:20230426T034221Z
UID:1209-1682899200-1682985599@mswministry.org
SUMMARY:Happy Birthday Servant Mack!
DESCRIPTION:
URL:https://mswministry.org/events/happy-birthday-servant-mack/
LOCATION:FL
END:VEVENT
BEGIN:VEVENT
DTSTART;TZID=America/New_York:20230430T180000
DTEND;TZID=America/New_York:20230430T213000
DTSTAMP:20260423T133914
CREATED:20230426T012937Z
LAST-MODIFIED:20230426T014048Z
UID:1159-1682877600-1682890200@mswministry.org
SUMMARY:Servant Mack Birthday Celebration Service
DESCRIPTION:Guest Speaker: Minister Bobby McDowell
URL:https://mswministry.org/events/servant-mack-birthday-celebration-service-3/
LOCATION:Miracle Signs and Wonders Ministry\, 3558 North 29th Street\, Tampa\, Florida\, 33605
END:VEVENT
BEGIN:VEVENT
DTSTART;TZID=America/New_York:20230430T110000
DTEND;TZID=America/New_York:20230430T140000
DTSTAMP:20260423T133914
CREATED:20230426T012734Z
LAST-MODIFIED:20230426T012734Z
UID:1157-1682852400-1682863200@mswministry.org
SUMMARY:Servant Mack Birthday Celebration Service
DESCRIPTION:Guest Speaker: Apostle Thomas
URL:https://mswministry.org/events/servant-mack-birthday-celebration-service-2/
LOCATION:Conference Line (Miracle Signs and Wonders Ministry)
END:VEVENT
BEGIN:VEVENT
DTSTART;TZID=America/New_York:20230425T190000
DTEND;TZID=America/New_York:20230425T220000
DTSTAMP:20260423T133914
CREATED:20230426T012126Z
LAST-MODIFIED:20230426T012126Z
UID:1150-1682449200-1682460000@mswministry.org
SUMMARY:Servant Mack Birthday Celebration Service
DESCRIPTION:Guest Speaker: Pastor Louis Rodriquez
URL:https://mswministry.org/events/servant-mack-birthday-celebration-service/
LOCATION:Conference Line (Miracle Signs and Wonders Ministry)
END:VEVENT
BEGIN:VEVENT
DTSTART;TZID=America/New_York:20220521T140000
DTEND;TZID=America/New_York:20220521T180000
DTSTAMP:20260423T133914
CREATED:20220512T235807Z
LAST-MODIFIED:20220514T143033Z
UID:1061-1653141600-1653156000@mswministry.org
SUMMARY:The Celebration of Life Fish Fry
DESCRIPTION:The celebration of life fish fry will take place at Copeland Park after the baptism. \n  \nShelter 503 is where everyone will meet. \n  \nPlease join us in fellowship!
URL:https://mswministry.org/events/the-celebration-of-life-fish-fry/
LOCATION:Copeland Park\, 11001 N 15th St.\, Tampa\, FL\, 33612\, United States
END:VEVENT
BEGIN:VEVENT
DTSTART;TZID=America/New_York:20220521T120000
DTEND;TZID=America/New_York:20220521T133000
DTSTAMP:20260423T133914
CREATED:20220512T220434Z
LAST-MODIFIED:20220514T145028Z
UID:1028-1653134400-1653139800@mswministry.org
SUMMARY:Baptism
DESCRIPTION:Please arrive at 11:30 a.m. for preparation.\n\nPreparation allows the baptism candidates time to be dressed in their baptism garments prior to entering the water.\n\n\n\n  \n\n\nThe baptism will begin at 12:00 p.m.\n\n\n  \n\n\nFor more information\, please call 813-803-0517
URL:https://mswministry.org/events/baptism-4/
LOCATION:Cypress Point Park\, 5620 W. Cypress Street\, Tampa\, FL\, 33607\, United States
END:VEVENT
BEGIN:VEVENT
DTSTART;TZID=America/New_York:20220115T113000
DTEND;TZID=America/New_York:20220115T133000
DTSTAMP:20260423T133914
CREATED:20220109T164946Z
LAST-MODIFIED:20220109T182305Z
UID:966-1642246200-1642253400@mswministry.org
SUMMARY:Baptism
DESCRIPTION:Please arrive at 11:30 a.m. for preparation.\n\nPreparation allows the baptism candidates time to be dressed in their baptism garments prior to entering the water.\n\n\n\n  \n\nThe baptism will begin at 12:00 p.m.\n\n  \n\nFor more information\, please call 813-803-0517
URL:https://mswministry.org/events/baptism-3/
LOCATION:Cypress Point Park\, 5620 W. Cypress Street\, Tampa\, FL\, 33607\, United States
END:VEVENT
BEGIN:VEVENT
DTSTART;TZID=America/New_York:20210925T113000
DTEND;TZID=America/New_York:20210925T133000
DTSTAMP:20260423T133914
CREATED:20210920T001308Z
LAST-MODIFIED:20210920T001308Z
UID:949-1632569400-1632576600@mswministry.org
SUMMARY:Baptism
DESCRIPTION:Please arrive at 11:30 a.m. for preparation. \nThe baptism will begin at 12:00 p.m.
URL:https://mswministry.org/events/baptism-2/
LOCATION:Cypress Point Park\, 5620 W. Cypress Street\, Tampa\, FL\, 33607\, United States
END:VEVENT
BEGIN:VEVENT
DTSTART;TZID=America/New_York:20210626T113000
DTEND;TZID=America/New_York:20210626T133000
DTSTAMP:20260423T133914
CREATED:20210622T232234Z
LAST-MODIFIED:20210622T232742Z
UID:785-1624707000-1624714200@mswministry.org
SUMMARY:Baptism
DESCRIPTION:Please arrive at 11:30 a.m. for preparation. \nThe baptism will begin at 12:00 p.m.
URL:https://mswministry.org/events/baptism/
LOCATION:Cypress Point Park\, 5620 W. Cypress Street\, Tampa\, FL\, 33607\, United States
END:VEVENT
END:VCALENDAR